BEGIN:VCALENDAR
PRODID:-//Microsoft Corporation//Outlook 14.0 MIMEDIR//EN
VERSION:2.0
METHOD:PUBLISH
BEGIN:VEVENT
UID:f5f6e98bbfd5586e0cd35bdd524d7912www.cetaf.qc.ca
DTSTAMP:20260426T001056Z
DTSTART:2026-06-03T17:00:0000Z
DTEND:2026-06-03T20:00:0000Z
SUMMARY:Transport des matières dangereuses
LOCATION:
DESCRIPTION:[FORMATION EN LIGNE] Sensibiliser les intervenants au transport et à la manutention des matières dangereuses (contenants sous pression). Obtention de la certification fédérale sur le TMD.
END:VEVENT
END:VCALENDAR